Workbook

Sheet Scheduled
A1: Table 4.1a
A2: Origin/destination of terminating scheduled passengers at the 2025 survey airports.
A4: Region | B4: Gatwick | D4: Heathrow | F4: London City | H4: Luton | J4: Stansted
B5: 000's | C5: % | D5: 000's | E5: % | F5: 000's | G5: % | H5: 000's | I5: % | J5: 000's | K5: %
A7: East Midlands | B7: 669.43242 | C7: =B7/B$20*100 -> 1.740063 | D7: 2039.2892 | E7: =D7/D$20*100 -> 3.2631537 | F7: 44.657827 | G7: =F7/F$20*100 -> 1.2139005 | H7: 1312.7182 | I7: =H7/H$20*100 -> 7.846356 | J7: 1269.4175 | K7: =J7/J$20*100 -> 4.4978827
A8: East of England | B8: 2507.2751 | C8: =B8/B$20*100 -> 6.5171877 | D8: 5151.9106 | E8: =D8/D$20*100 -> 8.2437921 | F8: 265.50041 | G8: =F8/F$20*100 -> 7.2169001 | H8: 5668.8141 | I8: =H8/H$20*100 -> 33.883535 | J8: 9909.82 | K8: =J8/J$20*100 -> 35.11312
A9: North East | B9: 127.82475 | C9: =B9/B$20*100 -> 0.33225628 | D9: 215.39485 | E9: =D9/D$20*100 -> 0.34466249 | F9: 7.6212003 | G9: =F9/F$20*100 -> 0.20716142 | H9: 16.880158 | I9: =H9/H$20*100 -> 0.10089578 | J9: 54.083612 | K9: =J9/J$20*100 -> 0.19163258
A10: North West | B10: 320.29329 | C10: =B10/B$20*100 -> 0.83254186 | D10: 590.52895 | E10: =D10/D$20*100 -> 0.94493058 | F10: 44.475568 | G10: =F10/F$20*100 -> 1.2089463 | H10: 117.9293 | I10: =H10/H$20*100 -> 0.7048849 | J10: 121.61477 | K10: =J10/J$20*100 -> 0.43091338
A11: Scotland | B11: 183.59926 | C11: =B11/B$20*100 -> 0.47723158 | D11: 311.71938 | E11: =D11/D$20*100 -> 0.49879549 | F11: 20.650022 | G11: =F11/F$20*100 -> 0.56131419 | H11: 27.049732 | I11: =H11/H$20*100 -> 0.16168118 | J11: 46.883544 | K11: =J11/J$20*100 -> 0.16612083
A12: South East | B12: 31186.629 | C12: =B12/B$20*100 -> 81.063746 | D12: 45200.03 | E12: =D12/D$20*100 -> 72.326498 | F12: 3184.7752 | G12: =F12/F$20*100 -> 86.569376 | H12: 8106.2873 | I12: =H12/H$20*100 -> 48.452756 | J12: 15423.139 | K12: =J12/J$20*100 -> 54.64827
A13: South West | B13: 1967.646 | C13: =B13/B$20*100 -> 5.1145237 | D13: 4579.841 | E13: =D13/D$20*100 -> 7.3283992 | F13: 39.114979 | G13: =F13/F$20*100 -> 1.0632334 | H13: 508.85233 | I13: =H13/H$20*100 -> 3.0415031 | J13: 430.84851 | K13: =J13/J$20*100 -> 1.5266105
A14: Wales | B14: 393.00873 | C14: =B14/B$20*100 -> 1.0215519 | D14: 1388.4814 | E14: =D14/D$20*100 -> 2.2217684 | F14: 9.3075296 | G14: =F14/F$20*100 -> 0.25299965 | H14: 84.701211 | I14: =H14/H$20*100 -> 0.50627457 | J14: 160.05395 | K14: =J14/J$20*100 -> 0.56711358
A15: West Midlands | B15: 618.17307 | C15: =B15/B$20*100 -> 1.606824 | D15: 2186.7817 | E15: =D15/D$20*100 -> 3.4991628 | F15: 24.585595 | G15: =F15/F$20*100 -> 0.66829195 | H15: 649.98031 | I15: =H15/H$20*100 -> 3.8850508 | J15: 492.27159 | K15: =J15/J$20*100 -> 1.7442488
A16: Yorkshire and the Humber | B16: 483.29986 | C16: =B16/B$20*100 -> 1.2562466 | D16: 823.18556 | E16: =D16/D$20*100 -> 1.3172144 | F16: 37.04596 | G16: =F16/F$20*100 -> 1.0069928 | H16: 237.07878 | I16: =H16/H$20*100 -> 1.4170631 | J16: 314.42388 | K16: =J16/J$20*100 -> 1.1140872
A18: Other region | B18: 14.552858 | C18: =B18/B$20*100 -> 0.037827403 | D18: 7.263496 | E18: =D18/D$20*100 -> 0.01162263 | F18: 1.1361667 | G18: =F18/F$20*100 -> 0.030883573 | H18: 0 | I18: =H18/H$20*100 -> 0 | J18: 0 | K18: =J18/J$20*100 -> 0
A20: Total | B20: =SUM(B7:B18) -> 38471.734 | C20: 100 | D20: =SUM(D7:D18) -> 62494.426 | E20: 100 | F20: =SUM(F7:F18) -> 3678.8705 | G20: 100 | H20: =SUM(H7:H18) -> 16730.291 | I20: 100 | J20: =SUM(J7:J18) -> 28222.556 | K20: 100
A22: Note: Excludes interviews where passengers may not have answered all relevant core questions
A25: Table 4.1b
A26: Origin/destination of terminating scheduled passengers at the 2025 survey airports.
A28: Region | B28: Birmingham | D28: East Midlands | F28: Manchester
B29: 000's | C29: % | D29: 000's | E29: % | F29: 000's | G29: %
A31: East Midlands | B31: 2117.1349 | C31: =B31/B$44*100 -> 17.801421 | D31: 2213.4632 | E31: =D31/D$44*100 -> 70.61175 | F31: 1249.6783 | G31: =F31/F$44*100 -> 4.3178326
A32: East of England | B32: 91.760688 | C32: =B32/B$44*100 -> 0.77154774 | D32: 27.624317 | E32: =D32/D$44*100 -> 0.88124409 | F32: 42.263591 | G32: =F32/F$44*100 -> 0.14602728
A33: North East | B33: 21.887259 | C33: =B33/B$44*100 -> 0.18403377 | D33: 6.2319365 | E33: =D33/D$44*100 -> 0.19880518 | F33: 607.15292 | G33: =F33/F$44*100 -> 2.0978077
A34: North West | B34: 85.208199 | C34: =B34/B$44*100 -> 0.71645271 | D34: 17.213306 | E34: =D34/D$44*100 -> 0.54912215 | F34: 17797.102 | G34: =F34/F$44*100 -> 61.491754
A35: Scotland | B35: 9.3214715 | C35: =B35/B$44*100 -> 0.078377358 | D35: 0.9854988 | E35: =D35/D$44*100 -> 0.031438424 | F35: 341.42734 | G35: =F35/F$44*100 -> 1.1796845
A36: South East | B36: 289.98052 | C36: =B36/B$44*100 -> 2.4382316 | D36: 15.004361 | E36: =D36/D$44*100 -> 0.47865452 | F36: 138.29442 | G36: =F36/F$44*100 -> 0.4778287
A37: South West | B37: 385.36828 | C37: =B37/B$44*100 -> 3.2402768 | D37: 5.1850159 | E37: =D37/D$44*100 -> 0.16540734 | F37: 65.152573 | G37: =F37/F$44*100 -> 0.22511226
A38: Wales | B38: 194.14259 | C38: =B38/B$44*100 -> 1.6324014 | D38: 5.4973369 | E38: =D38/D$44*100 -> 0.1753707 | F38: 1096.3366 | G38: =F38/F$44*100 -> 3.7880133
A39: West Midlands | B39: 8520.5905 | C39: =B39/B$44*100 -> 71.643342 | D39: 334.71168 | E39: =D39/D$44*100 -> 10.677646 | F39: 1525.9951 | G39: =F39/F$44*100 -> 5.2725501
A40: Yorkshire and the Humber | B40: 177.67235 | C40: =B40/B$44*100 -> 1.4939153 | D40: 508.77862 | E40: =D40/D$44*100 -> 16.230561 | F40: 6063.9097 | G40: =F40/F$44*100 -> 20.95175
A42: Other region | B42: 0 | C42: =B42/B$44*100 -> 0 | D42: 0 | E42: =D42/D$44*100 -> 0 | F42: 14.945651 | G42: =F42/F$44*100 -> 0.051639545
A44: Total | B44: =SUM(B31:B42) -> 11893.067 | C44: 100 | D44: =SUM(D31:D42) -> 3134.6953 | E44: 100 | F44: =SUM(F31:F42) -> 28942.258 | G44: 100
A46: Note: Excludes interviews where passengers may not have answered all relevant core questions

Sheet Charter
A1: Table 4.2a
A2: Origin/destination of terminating charter passengers at the 2025 survey airports.
A4: Region | B4: Gatwick | D4: Heathrow | F4: London City | H4: Luton | J4: Stansted
B5: 000's | C5: % | D5: 000's | E5: % | F5: 000's | G5: % | H5: 000's | I5: % | J5: 000's | K5: %
A7: East Midlands | B7: 46.318142 | C7: =B7/B$20*100 -> 2.5741573 | D7: 0 | E7: =D7/D$20*100 -> 0 | F7: 0 | G7: 0 | H7: 14.487294 | I7: =H7/H$20*100 -> 12.152445 | J7: 9.3088333 | K7: =J7/J$20*100 -> 3.7709111
A8: East of England | B8: 258.85481 | C8: =B8/B$20*100 -> 14.386004 | D8: 0 | E8: =D8/D$20*100 -> 0 | F8: 0 | G8: 0 | H8: 50.862749 | I8: =H8/H$20*100 -> 42.665438 | J8: 162.13128 | K8: =J8/J$20*100 -> 65.677688
A9: North East | B9: 8.7108675 | C9: =B9/B$20*100 -> 0.48411145 | D9: 0 | E9: =D9/D$20*100 -> 0 | F9: 0 | G9: 0 | H9: 0 | I9: =H9/H$20*100 -> 0 | J9: 0 | K9: =J9/J$20*100 -> 0
A10: North West | B10: 8.430246 | C10: =B10/B$20*100 -> 0.46851575 | D10: 0 | E10: =D10/D$20*100 -> 0 | F10: 0 | G10: 0 | H10: 1.92645 | I10: =H10/H$20*100 -> 1.6159731 | J10: 0.858 | K10: =J10/J$20*100 -> 0.34756683
A11: Scotland | B11: 4.396519 | C11: =B11/B$20*100 -> 0.24433906 | D11: 0 | E11: =D11/D$20*100 -> 0 | F11: 0 | G11: 0 | H11: 0 | I11: =H11/H$20*100 -> 0 | J11: 0 | K11: =J11/J$20*100 -> 0
A12: South East | B12: 1270.6175 | C12: =B12/B$20*100 -> 70.615295 | D12: 1.3433333 | E12: =D12/D$20*100 -> 66.666667 | F12: 0 | G12: 0 | H12: 40.70559 | I12: =H12/H$20*100 -> 34.145261 | J12: 66.250883 | K12: =J12/J$20*100 -> 26.83754
A13: South West | B13: 136.8272 | C13: =B13/B$20*100 -> 7.60425 | D13: 0 | E13: =D13/D$20*100 -> 0 | F13: 0 | G13: 0 | H13: 2.5597 | I13: =H13/H$20*100 -> 2.1471652 | J13: 3.8213333 | K13: =J13/J$20*100 -> 1.5479822
A14: Wales | B14: 30.253995 | C14: =B14/B$20*100 -> 1.6813831 | D14: 0 | E14: =D14/D$20*100 -> 0 | F14: 0 | G14: 0 | H14: 0 | I14: =H14/H$20*100 -> 0 | J14: 0 | K14: =J14/J$20*100 -> 0
A15: West Midlands | B15: 15.10377 | C15: =B15/B$20*100 -> 0.83940066 | D15: 0.67166667 | E15: =D15/D$20*100 -> 33.333333 | F15: 0 | G15: 0 | H15: 8.6712167 | I15: =H15/H$20*100 -> 7.2737174 | J15: 2.444 | K15: =J15/J$20*100 -> 0.99003885
A16: Yorkshire and the Humber | B16: 19.838626 | C16: =B16/B$20*100 -> 1.102543 | D16: 0 | E16: =D16/D$20*100 -> 0 | F16: 0 | G16: 0 | H16: 0 | I16: =H16/H$20*100 -> 0 | J16: 2.0446667 | K16: =J16/J$20*100 -> 0.82827309
A18: Other region | B18: 0 | C18: =B18/B$20*100 -> 0 | D18: 0 | E18: =D18/D$20*100 -> 0 | F18: 0 | G18: 0 | H18: 0 | I18: =H18/H$20*100 -> 0 | J18: 0 | K18: =J18/J$20*100 -> 0
A20: Total | B20: =SUM(B7:B18) -> 1799.3517 | C20: 100 | D20: =SUM(D7:D18) -> 2.015 | E20: 100 | F20: =SUM(F7:F18) -> 0 | G20: 100 | H20: =SUM(H7:H18) -> 119.213 | I20: 100 | J20: =SUM(J7:J18) -> 246.859 | K20: 100
A22: Note: Excludes interviews where passengers may not have answered all relevant core questions
A25: Table 4.2b
A26: Origin/destination of terminating charter passengers at the 2025 survey airports.
A28: Region | B28: Birmingham | D28: East Midlands | F28: Manchester
B29: 000's | C29: % | D29: 000's | E29: % | F29: 000's | G29: %
A31: East Midlands | B31: 223.63332 | C31: =B31/B$44*100 -> 18.28355 | D31: 383.35128 | E31: =D31/D$44*100 -> 58.502797 | F31: 87.84615 | G31: =F31/F$44*100 -> 4.6305796
A32: East of England | B32: 19.59068 | C32: =B32/B$44*100 -> 1.6016718 | D32: 13.087644 | E32: =D32/D$44*100 -> 1.9972903 | F32: 1.7290758 | G32: =F32/F$44*100 -> 0.091143697
A33: North East | B33: 1.503525 | C33: =B33/B$44*100 -> 0.12292343 | D33: 0.4414359 | E33: =D33/D$44*100 -> 0.067367024 | F33: 57.057161 | G33: =F33/F$44*100 -> 3.0076187
A34: North West | B34: 7.2477685 | C34: =B34/B$44*100 -> 0.59255453 | D34: 4.0856886 | E34: =D34/D$44*100 -> 0.62351223 | F34: 1090.6893 | G34: =F34/F$44*100 -> 57.49283
A35: Scotland | B35: 0.28725 | C35: =B35/B$44*100 -> 0.023484647 | D35: 0.30035484 | E35: =D35/D$44*100 -> 0.045836806 | F35: 26.248294 | G35: =F35/F$44*100 -> 1.38361
A36: South East | B36: 27.78273 | C36: =B36/B$44*100 -> 2.2714278 | D36: 2.8589803 | E36: =D36/D$44*100 -> 0.4363057 | F36: 4.7473553 | G36: =F36/F$44*100 -> 0.25024439
A37: South West | B37: 59.720135 | C37: =B37/B$44*100 -> 4.8825286 | D37: 2.8778459 | E37: =D37/D$44*100 -> 0.43918475 | F37: 8.1541578 | G37: =F37/F$44*100 -> 0.42982506
A38: Wales | B38: 40.989195 | C38: =B38/B$44*100 -> 3.3511463 | D38: 0.21478313 | E38: =D38/D$44*100 -> 0.032777806 | F38: 101.59592 | G38: =F38/F$44*100 -> 5.3553626
A39: West Midlands | B39: 805.08723 | C39: =B39/B$44*100 -> 65.821374 | D39: 90.553004 | E39: =D39/D$44*100 -> 13.81919 | F39: 109.05819 | G39: =F39/F$44*100 -> 5.7487166
A40: Yorkshire and the Humber | B40: 37.297673 | C40: =B40/B$44*100 -> 3.0493393 | D40: 157.49898 | E40: =D40/D$44*100 -> 24.035738 | F40: 406.58139 | G40: =F40/F$44*100 -> 21.431872
A42: Other region | B42: 0 | C42: =B42/B$44*100 -> 0 | D42: 0 | E42: =D42/D$44*100 -> 0 | F42: 3.3805636 | G42: =F42/F$44*100 -> 0.17819755
A44: Total | B44: =SUM(B31:B42) -> 1223.1395 | C44: 100 | D44: =SUM(D31:D42) -> 655.27 | E44: 100 | F44: =SUM(F31:F42) -> 1897.0876 | G44: 100
A46: Note: Excludes interviews where passengers may not have answered all relevant core questions

Sheet ALL
A1: Table 4.3a
A2: Origin/destination of terminating passengers at the 2025 survey airports.
A4: Region | B4: Gatwick | D4: Heathrow | F4: London City | H4: Luton | J4: Stansted
B5: 000's | C5: % | D5: 000's | E5: % | F5: 000's | G5: % | H5: 000's | I5: % | J5: 000's | K5: %
A7: East Midlands | B7: =Scheduled!B7+Charter!B7 -> 715.75056 | C7: =B7/B$20*100 -> 1.7773312 | D7: =Scheduled!D7+Charter!D7 -> 2039.2892 | E7: =D7/D$20*100 -> 3.2630485 | F7: =Scheduled!F7 -> 44.657827 | G7: =F7/F$20*100 -> 1.2139005 | H7: =Scheduled!H7+Charter!H7 -> 1327.2055 | I7: =H7/H$20*100 -> 7.8768222 | J7: =Scheduled!J7+Charter!J7 -> 1278.7263 | K7: =J7/J$20*100 -> 4.4915791
A8: East of England | B8: =Scheduled!B8+Charter!B8 -> 2766.1299 | C8: =B8/B$20*100 -> 6.8687742 | D8: =Scheduled!D8+Charter!D8 -> 5151.9106 | E8: =D8/D$20*100 -> 8.2435263 | F8: =Scheduled!F8 -> 265.50041 | G8: =F8/F$20*100 -> 7.2169001 | H8: =Scheduled!H8+Charter!H8 -> 5719.6768 | I8: =H8/H$20*100 -> 33.945668 | J8: =Scheduled!J8+Charter!J8 -> 10071.951 | K8: =J8/J$20*100 -> 35.378146
A9: North East | B9: =Scheduled!B9+Charter!B9 -> 136.53562 | C9: =B9/B$20*100 -> 0.33904132 | D9: =Scheduled!D9+Charter!D9 -> 215.39485 | E9: =D9/D$20*100 -> 0.34465138 | F9: =Scheduled!F9 -> 7.6212003 | G9: =F9/F$20*100 -> 0.20716142 | H9: =Scheduled!H9+Charter!H9 -> 16.880158 | I9: =H9/H$20*100 -> 0.10018192 | J9: =Scheduled!J9+Charter!J9 -> 54.083612 | K9: =J9/J$20*100 -> 0.18997093
A10: North West | B10: =Scheduled!B10+Charter!B10 -> 328.72354 | C10: =B10/B$20*100 -> 0.81627681 | D10: =Scheduled!D10+Charter!D10 -> 590.52895 | E10: =D10/D$20*100 -> 0.94490012 | F10: =Scheduled!F10 -> 44.475568 | G10: =F10/F$20*100 -> 1.2089463 | H10: =Scheduled!H10+Charter!H10 -> 119.85575 | I10: =H10/H$20*100 -> 0.711331 | J10: =Scheduled!J10+Charter!J10 -> 122.47277 | K10: =J10/J$20*100 -> 0.43019068
A11: Scotland | B11: =Scheduled!B11+Charter!B11 -> 187.99578 | C11: =B11/B$20*100 -> 0.46682571 | D11: =Scheduled!D11+Charter!D11 -> 311.71938 | E11: =D11/D$20*100 -> 0.49877941 | F11: =Scheduled!F11 -> 20.650022 | G11: =F11/F$20*100 -> 0.56131419 | H11: =Scheduled!H11+Charter!H11 -> 27.049732 | I11: =H11/H$20*100 -> 0.16053726 | J11: =Scheduled!J11+Charter!J11 -> 46.883544 | K11: =J11/J$20*100 -> 0.16468039
A12: South East | B12: =Scheduled!B12+Charter!B12 -> 32457.246 | C12: =B12/B$20*100 -> 80.596899 | D12: =Scheduled!D12+Charter!D12 -> 45201.373 | E12: =D12/D$20*100 -> 72.326316 | F12: =Scheduled!F12 -> 3184.7752 | G12: =F12/F$20*100 -> 86.569376 | H12: =Scheduled!H12+Charter!H12 -> 8146.9929 | I12: =H12/H$20*100 -> 48.351528 | J12: =Scheduled!J12+Charter!J12 -> 15489.39 | K12: =J12/J$20*100 -> 54.407123
A13: South West | B13: =Scheduled!B13+Charter!B13 -> 2104.4732 | C13: =B13/B$20*100 -> 5.2257671 | D13: =Scheduled!D13+Charter!D13 -> 4579.841 | E13: =D13/D$20*100 -> 7.3281629 | F13: =Scheduled!F13 -> 39.114979 | G13: =F13/F$20*100 -> 1.0632334 | H13: =Scheduled!H13+Charter!H13 -> 511.41203 | I13: =H13/H$20*100 -> 3.0351755 | J13: =Scheduled!J13+Charter!J13 -> 434.66985 | K13: =J13/J$20*100 -> 1.5267959
A14: Wales | B14: =Scheduled!B14+Charter!B14 -> 423.26272 | C14: =B14/B$20*100 -> 1.0510338 | D14: =Scheduled!D14+Charter!D14 -> 1388.4814 | E14: =D14/D$20*100 -> 2.2216967 | F14: =Scheduled!F14 -> 9.3075296 | G14: =F14/F$20*100 -> 0.25299965 | H14: =Scheduled!H14+Charter!H14 -> 84.701211 | I14: =H14/H$20*100 -> 0.5026926 | J14: =Scheduled!J14+Charter!J14 -> 160.05395 | K14: =J14/J$20*100 -> 0.56219612
A15: West Midlands | B15: =Scheduled!B15+Charter!B15 -> 633.27684 | C15: =B15/B$20*100 -> 1.5725348 | D15: =Scheduled!D15+Charter!D15 -> 2187.4534 | E15: =D15/D$20*100 -> 3.5001247 | F15: =Scheduled!F15 -> 24.585595 | G15: =F15/F$20*100 -> 0.66829195 | H15: =Scheduled!H15+Charter!H15 -> 658.65153 | I15: =H15/H$20*100 -> 3.9090261 | J15: =Scheduled!J15+Charter!J15 -> 494.71559 | K15: =J15/J$20*100 -> 1.737709
A16: Yorkshire and the Humber | B16: =Scheduled!B16+Charter!B16 -> 503.13849 | C16: =B16/B$20*100 -> 1.249379 | D16: =Scheduled!D16+Charter!D16 -> 823.18556 | E16: =D16/D$20*100 -> 1.3171719 | F16: =Scheduled!F16 -> 37.04596 | G16: =F16/F$20*100 -> 1.0069928 | H16: =Scheduled!H16+Charter!H16 -> 237.07878 | I16: =H16/H$20*100 -> 1.4070371 | J16: =Scheduled!J16+Charter!J16 -> 316.46855 | K16: =J16/J$20*100 -> 1.1116089
A18: Other region | B18: =Scheduled!B18+Charter!B18 -> 14.552858 | C18: =B18/B$20*100 -> 0.036137238 | D18: =Scheduled!D18+Charter!D18 -> 7.263496 | E18: =D18/D$20*100 -> 0.011622255 | F18: =Scheduled!F18 -> 1.1361667 | G18: =F18/F$20*100 -> 0.030883573 | H18: =Scheduled!H18+Charter!H18 -> 0 | I18: =H18/H$20*100 -> 0 | J18: =Scheduled!J18+Charter!J18 -> 0 | K18: =J18/J$20*100 -> 0
A20: Total | B20: =SUM(B7:B18) -> 40271.086 | C20: 100 | D20: =SUM(D7:D18) -> 62496.441 | E20: 100 | F20: =SUM(F7:F18) -> 3678.8705 | G20: 100 | H20: =SUM(H7:H18) -> 16849.504 | I20: 100 | J20: =SUM(J7:J18) -> 28469.415 | K20: 100
A22: Note: Excludes interviews where passengers may not have answered all relevant core questions
A25: Table 4.3b
A26: Origin/destination of terminating passengers at the 2025 survey airports.
A28: Region | B28: Birmingham | D28: East Midlands | F28: Manchester
B29: 000's | C29: % | D29: 000's | E29: % | F29: 000's | G29: %
A31: East Midlands | B31: =Scheduled!B31+Charter!B31 -> 2340.7682 | C31: =B31/B$44*100 -> 17.846381 | D31: =Scheduled!D31+Charter!D31 -> 2596.8145 | E31: =D31/D$44*100 -> 68.51816 | F31: =Scheduled!F31+Charter!F31 -> 1337.5244 | G31: =F31/F$44*100 -> 4.3370713
A32: East of England | B32: =Scheduled!B32+Charter!B32 -> 111.35137 | C32: =B32/B$44*100 -> 0.84896018 | D32: =Scheduled!D32+Charter!D32 -> 40.711961 | E32: =D32/D$44*100 -> 1.0742041 | F32: =Scheduled!F32+Charter!F32 -> 43.992667 | G32: =F32/F$44*100 -> 0.1426511
A33: North East | B33: =Scheduled!B33+Charter!B33 -> 23.390784 | C33: =B33/B$44*100 -> 0.17833498 | D33: =Scheduled!D33+Charter!D33 -> 6.6733724 | E33: =D33/D$44*100 -> 0.17608004 | F33: =Scheduled!F33+Charter!F33 -> 664.21008 | G33: =F33/F$44*100 -> 2.1537749
A34: North West | B34: =Scheduled!B34+Charter!B34 -> 92.455968 | C34: =B34/B$44*100 -> 0.70489871 | D34: =Scheduled!D34+Charter!D34 -> 21.298995 | E34: =D34/D$44*100 -> 0.5619839 | F34: =Scheduled!F34+Charter!F34 -> 18887.791 | G34: =F34/F$44*100 -> 61.245759
A35: Scotland | B35: =Scheduled!B35+Charter!B35 -> 9.6087215 | C35: =B35/B$44*100 -> 0.07325839 | D35: =Scheduled!D35+Charter!D35 -> 1.2858536 | E35: =D35/D$44*100 -> 0.033927848 | F35: =Scheduled!F35+Charter!F35 -> 367.67564 | G35: =F35/F$44*100 -> 1.192229
A36: South East | B36: =Scheduled!B36+Charter!B36 -> 317.76325 | C36: =B36/B$44*100 -> 2.4226765 | D36: =Scheduled!D36+Charter!D36 -> 17.863341 | E36: =D36/D$44*100 -> 0.47133258 | F36: =Scheduled!F36+Charter!F36 -> 143.04177 | G36: =F36/F$44*100 -> 0.46382881
A37: South West | B37: =Scheduled!B37+Charter!B37 -> 445.08842 | C37: =B37/B$44*100 -> 3.3934235 | D37: =Scheduled!D37+Charter!D37 -> 8.0628619 | E37: =D37/D$44*100 -> 0.21274237 | F37: =Scheduled!F37+Charter!F37 -> 73.306731 | G37: =F37/F$44*100 -> 0.23770521
A38: Wales | B38: =Scheduled!B38+Charter!B38 -> 235.13178 | C38: =B38/B$44*100 -> 1.7926813 | D38: =Scheduled!D38+Charter!D38 -> 5.71212 | E38: =D38/D$44*100 -> 0.15071695 | F38: =Scheduled!F38+Charter!F38 -> 1197.9325 | G38: =F38/F$44*100 -> 3.884429
A39: West Midlands | B39: =Scheduled!B39+Charter!B39 -> 9325.6778 | C39: =B39/B$44*100 -> 71.10042 | D39: =Scheduled!D39+Charter!D39 -> 425.26468 | E39: =D39/D$44*100 -> 11.220807 | F39: =Scheduled!F39+Charter!F39 -> 1635.0532 | G39: =F39/F$44*100 -> 5.3018415
A40: Yorkshire and the Humber | B40: =Scheduled!B40+Charter!B40 -> 214.97002 | C40: =B40/B$44*100 -> 1.6389649 | D40: =Scheduled!D40+Charter!D40 -> 666.27761 | E40: =D40/D$44*100 -> 17.580045 | F40: =Scheduled!F40+Charter!F40 -> 6470.4911 | G40: =F40/F$44*100 -> 20.981285
B41: =Scheduled!B41+Charter!B41 -> 0 | D41: =Scheduled!D41+Charter!D41 -> 0 | F41: =Scheduled!F41+Charter!F41 -> 0
A42: Other region | B42: =Scheduled!B42+Charter!B42 -> 0 | C42: =B42/B$44*100 -> 0 | D42: =Scheduled!D42+Charter!D42 -> 0 | E42: =D42/D$44*100 -> 0 | F42: =Scheduled!F42+Charter!F42 -> 18.326214 | G42: =F42/F$44*100 -> 0.059424783
A44: Total | B44: =SUM(B31:B42) -> 13116.206 | C44: 100 | D44: =SUM(D31:D42) -> 3789.9653 | E44: 100 | F44: =SUM(F31:F42) -> 30839.346 | G44: 100
A46: Note: Excludes interviews where passengers may not have answered all relevant core questions
